BEGIN:VCALENDAR
VERSION:2.0
PRODID:-//Exotic Automation &amp; Supply - ECPv6.15.20//NONSGML v1.0//EN
CALSCALE:GREGORIAN
METHOD:PUBLISH
X-ORIGINAL-URL:https://exoticautomation.com
X-WR-CALDESC:Events for Exotic Automation &amp; Supply
REFRESH-INTERVAL;VALUE=DURATION:PT1H
X-Robots-Tag:noindex
X-PUBLISHED-TTL:PT1H
BEGIN:VTIMEZONE
TZID:UTC
BEGIN:STANDARD
TZOFFSETFROM:+0000
TZOFFSETTO:+0000
TZNAME:UTC
DTSTART:20250101T000000
END:STANDARD
END:VTIMEZONE
BEGIN:VEVENT
DTSTART;TZID=UTC:20260514T110000
DTEND;TZID=UTC:20260514T130000
DTSTAMP:20260422T123838
CREATED:20260316T182108Z
LAST-MODIFIED:20260416T161208Z
UID:39728-1778756400-1778763600@exoticautomation.com
SUMMARY:Muskegon ParkerStore Open House
DESCRIPTION:MARK YOUR CALENDARS\nJoin us at our Muskegon ParkerStore Open House on Thursday\, May 14th from 11:00am – 1:00pm for product demos\, giveaways and catered lunch from Dr. Rolf’s BBQ! Plus\, enter to win an Ooni Pizza Oven! We look forward to seeing you! \n \nREGISTER BELOW: \n\n\n                \n                        \n                             \n                        \n                        First Name*Last Name*Company Name*Email*\n                            \n                        Phone Number
URL:https://exoticautomation.com/event/muskegon-parkerstore-open-house/
LOCATION:West Michigan Rubber – Muskegon\, 767 W Hackley Ave\, Muskegon\, MI\, 48441\, United States
CATEGORIES:Luncheons
ATTACH;FMTTYPE=image/png:https://exoticautomation.com/wp-content/uploads/2025/11/wmr.png
END:VEVENT
BEGIN:VEVENT
DTSTART;TZID=UTC:20260604T110000
DTEND;TZID=UTC:20260604T130000
DTSTAMP:20260422T123838
CREATED:20260316T175406Z
LAST-MODIFIED:20260416T161244Z
UID:39718-1780570800-1780578000@exoticautomation.com
SUMMARY:Taylor ParkerStore Open House
DESCRIPTION:MARK YOUR CALENDARS\nJoin us at our Taylor ParkerStore Open House on Thursday\, June 4th from 11:00am – 1:00pm for product demos\, giveaways and catered lunch from Famous Dave’s! Plus\, enter to win an Ooni Pizza Oven! We look forward to seeing you! \n \nREGISTER BELOW: \n\n                \n                        \n                             \n                        \n                        First Name*Last Name*Company Name*Email*\n                            \n                        Phone Number
URL:https://exoticautomation.com/event/taylor-parkerstore-open-house/
LOCATION:Exotic Automation & Supply – Taylor\, 20575 Northline Road\, Taylor\, MI\, 48180\, United States
CATEGORIES:Luncheons
ATTACH;FMTTYPE=image/jpeg:https://exoticautomation.com/wp-content/uploads/2024/04/Taylor-2-1-scaled.jpg
END:VEVENT
BEGIN:VEVENT
DTSTART;TZID=UTC:20260618T110000
DTEND;TZID=UTC:20260618T130000
DTSTAMP:20260422T123838
CREATED:20260316T182246Z
LAST-MODIFIED:20260416T161133Z
UID:39731-1781780400-1781787600@exoticautomation.com
SUMMARY:Freeland ParkerStore Open House
DESCRIPTION:MARK YOUR CALENDARS\nJoin us at our Freeland ParkerStore Open House on Thursday\, June 18th from 11:00am – 1:00pm for product demos\, giveaways and catered lunch from Qdoba! Plus\, enter to win an Ooni Pizza Oven! We look forward to seeing you! \n \nREGISTER BELOW: \n\n                \n                        \n                             \n                        \n                        First Name*Last Name*Company Name*Email*\n                            \n                        Phone Number
URL:https://exoticautomation.com/event/freeland-parkerstore-open-house/
LOCATION:Exotic Automation & Supply – Freeland\, 10359 Hercules Rd\, Freeland\, MI\, 48623\, United States
CATEGORIES:Luncheons
ATTACH;FMTTYPE=image/png:https://exoticautomation.com/wp-content/uploads/2024/04/May-Freeland-MI.png
END:VEVENT
END:VCALENDAR