BEGIN:VCALENDAR
VERSION:2.0
PRODID:-//Exotic Automation &amp; Supply - ECPv6.15.20//NONSGML v1.0//EN
CALSCALE:GREGORIAN
METHOD:PUBLISH
X-WR-CALNAME:Exotic Automation &amp; Supply
X-ORIGINAL-URL:https://exoticautomation.com
X-WR-CALDESC:Events for Exotic Automation &amp; Supply
REFRESH-INTERVAL;VALUE=DURATION:PT1H
X-Robots-Tag:noindex
X-PUBLISHED-TTL:PT1H
BEGIN:VTIMEZONE
TZID:America/Detroit
BEGIN:DAYLIGHT
TZOFFSETFROM:-0500
TZOFFSETTO:-0400
TZNAME:EDT
DTSTART:20200308T070000
END:DAYLIGHT
BEGIN:STANDARD
TZOFFSETFROM:-0400
TZOFFSETTO:-0500
TZNAME:EST
DTSTART:20201101T060000
END:STANDARD
BEGIN:DAYLIGHT
TZOFFSETFROM:-0500
TZOFFSETTO:-0400
TZNAME:EDT
DTSTART:20210314T070000
END:DAYLIGHT
BEGIN:STANDARD
TZOFFSETFROM:-0400
TZOFFSETTO:-0500
TZNAME:EST
DTSTART:20211107T060000
END:STANDARD
BEGIN:DAYLIGHT
TZOFFSETFROM:-0500
TZOFFSETTO:-0400
TZNAME:EDT
DTSTART:20220313T070000
END:DAYLIGHT
BEGIN:STANDARD
TZOFFSETFROM:-0400
TZOFFSETTO:-0500
TZNAME:EST
DTSTART:20221106T060000
END:STANDARD
BEGIN:DAYLIGHT
TZOFFSETFROM:-0500
TZOFFSETTO:-0400
TZNAME:EDT
DTSTART:20230312T070000
END:DAYLIGHT
BEGIN:STANDARD
TZOFFSETFROM:-0400
TZOFFSETTO:-0500
TZNAME:EST
DTSTART:20231105T060000
END:STANDARD
BEGIN:DAYLIGHT
TZOFFSETFROM:-0500
TZOFFSETTO:-0400
TZNAME:EDT
DTSTART:20240310T070000
END:DAYLIGHT
BEGIN:STANDARD
TZOFFSETFROM:-0400
TZOFFSETTO:-0500
TZNAME:EST
DTSTART:20241103T060000
END:STANDARD
BEGIN:DAYLIGHT
TZOFFSETFROM:-0500
TZOFFSETTO:-0400
TZNAME:EDT
DTSTART:20250309T070000
END:DAYLIGHT
BEGIN:STANDARD
TZOFFSETFROM:-0400
TZOFFSETTO:-0500
TZNAME:EST
DTSTART:20251102T060000
END:STANDARD
END:VTIMEZONE
BEGIN:VEVENT
DTSTART;VALUE=DATE:20240506
DTEND;VALUE=DATE:20240509
DTSTAMP:20260425T003055
CREATED:20240508T070551Z
LAST-MODIFIED:20240521T072504Z
UID:25733-1714953600-1715212799@exoticautomation.com
SUMMARY:AISTech 2024 Iron & Steel Show
DESCRIPTION:Exotic Automation & Supply will be exhibiting at booth #2909 at this year’s AISTech Iron & Steel Conference held May 6th – May 8th in Columbus\, OH. On display will be our wide selection of Hydraulic Safety Valves. Not able to attend the show? Contact us for more information today.
URL:https://exoticautomation.com/event/aistech-2024-iron-steel-show/
CATEGORIES:Trade Show
END:VEVENT
BEGIN:VEVENT
DTSTART;VALUE=DATE:20240429
DTEND;VALUE=DATE:20240504
DTSTAMP:20260425T003055
CREATED:20240508T070551Z
LAST-MODIFIED:20240521T072506Z
UID:25732-1714348800-1714780799@exoticautomation.com
SUMMARY:ParkerStore Customer Appreciation Week 2024
DESCRIPTION:As a thank you to our loyal customers\, we are hosting a customer appreciation week at all of our ParkerStore locations. Stop by to enjoy complimentary hot dogs and scratch off a ParkerStore Lottery Ticket for your chance to win one of many prizes! Click here for a full list of our location addresses. \nPrizes Include: \n\nYETI 14oz Stackable Mug\nCarhartt Leather Work Glove\nAnker Soundcore Bluetooth Speaker\nCarhartt Canvas Mesh Back Cap\nCuisinart Grill Set\nCarhartt 4 Can Lunch Cooler\nCallaway 4-in-1 Blade Divot Repair Tool\nAnd More!
URL:https://exoticautomation.com/event/parkerstore-customer-appreciation-week-2024/
END:VEVENT
BEGIN:VEVENT
DTSTART;TZID=America/Detroit:20231026T110000
DTEND;TZID=America/Detroit:20231026T130000
DTSTAMP:20260425T003055
CREATED:20240508T070551Z
LAST-MODIFIED:20240521T072551Z
UID:25731-1698318000-1698325200@exoticautomation.com
SUMMARY:Grand Rapids SE ParkerStore Open House
DESCRIPTION:You’re invited to our Grand Rapids SE Open House!\nJoin us at our Grand Rapids SE ParkerStore on Thursday\, October 26th from 11:00am – 1:00pm for product demos\, technical training\, and catered lunch from B.D.’s BBQ! \nRegister Below
URL:https://exoticautomation.com/event/grand-rapids-se-parkerstore-open-house/
CATEGORIES:Luncheons
END:VEVENT
BEGIN:VEVENT
DTSTART;VALUE=DATE:20230925
DTEND;VALUE=DATE:20230930
DTSTAMP:20260425T003055
CREATED:20240508T070548Z
LAST-MODIFIED:20240521T072531Z
UID:25726-1695600000-1696031999@exoticautomation.com
SUMMARY:ParkerStore Customer Appreciation Week!
DESCRIPTION:As a thank you to our loyal customers\, we are hosting a customer appreciation week at all 17 of our ParkerStores. Stop by to enjoy complimentary hot dogs and scratch off a ParkerStore Lottery Ticket for your chance to win one of many prizes!
URL:https://exoticautomation.com/event/parkerstore-customer-appreciation-week/
END:VEVENT
BEGIN:VEVENT
DTSTART;TZID=America/Detroit:20230810T110000
DTEND;TZID=America/Detroit:20230810T130000
DTSTAMP:20260425T003055
CREATED:20240508T070551Z
LAST-MODIFIED:20240521T072533Z
UID:25728-1691665200-1691672400@exoticautomation.com
SUMMARY:St. Joseph ParkerStore Open House
DESCRIPTION:You’re invited to our St. Joseph Open House!\nJoin us at our St. Joseph ParkerStore on Thursday\, August 10th from 11:00am – 1:00pm for product demos\, technical training\, and catered lunch! \nRegister Below
URL:https://exoticautomation.com/event/st-joseph-parkerstore-open-house/
CATEGORIES:Luncheons
END:VEVENT
BEGIN:VEVENT
DTSTART;TZID=America/Detroit:20230803T110000
DTEND;TZID=America/Detroit:20230803T130000
DTSTAMP:20260425T003055
CREATED:20240508T070551Z
LAST-MODIFIED:20240521T072535Z
UID:25730-1691060400-1691067600@exoticautomation.com
SUMMARY:Port Huron ParkerStore Open House
DESCRIPTION:You’re invited to our Port Huron Open House!\nJoin us at our Port Huron ParkerStore on Thursday\, August 3rd from 11:00am – 1:00pm for product demos\, giveaways and catered lunch! \nRegister Below\n\n\n                \n                        First Name*Last Name*Company Name*Email*\n                            \n                        Phone Number*Message*
URL:https://exoticautomation.com/event/port-huron-parkerstore-open-house/
CATEGORIES:Luncheons
END:VEVENT
BEGIN:VEVENT
DTSTART;TZID=America/Detroit:20230720T110000
DTEND;TZID=America/Detroit:20230720T130000
DTSTAMP:20260425T003055
CREATED:20240508T070551Z
LAST-MODIFIED:20240521T072537Z
UID:25729-1689850800-1689858000@exoticautomation.com
SUMMARY:Noblesville ParkerStore Open House
DESCRIPTION:You’re invited to our Noblesville Open House!\nJoin us at our Noblesville ParkerStore on Thursday\, July 20th from 11:00am – 1:00pm for product demos\, giveaways and BBQ catered from Big Hoffa’s Smokehouse! \nRegister Below\n\n                \n                        NameThis field is for validation purposes and should be left unchanged.First Name*Last Name*Company Name*Email Address*Phone NumberPlease select all class recordings you are interested in downloading.*\n						\n						Select All\n					\n								\n								Hose & Injection Safety Practices\n							\n								\n								Intro to Servo Driven Hydraulic Systems\n							\n								\n								Hose Basics\n							\n								\n								80/20 - Build Your Idea\n							\n								\n								Cobots\, What Can They Do For You?\n							\n								\n								Compressors 101\n							\n								\n								Quick Couplings for EV Testing\n							\n								\n								Transair vs. Traditional Piping Applications & Installations\n							\n								\n								Introduction to Hydraulics\n							\n								\n								Statics and Dynamics in Linear Applications\n							\n								\n								Optimizing Design an Hardware Costs for Multi-Axis Systems\n							\n								\n								Revolutionizing Machine I/O with the PCH Network Portal\n							\n								\n								High Pressure Industrial Hydraulic Tools\n							\n								\n								Modular End Effectors - What to Consider?\n							\n								\n								Affordable Compact Progressive Lubrication Systems and Associated Components\n							\n								\n								Basics of Hydraulic Filtration
URL:https://exoticautomation.com/event/noblesville-parkerstore-open-house/
CATEGORIES:Luncheons
END:VEVENT
BEGIN:VEVENT
DTSTART;TZID=America/Detroit:20230608T110000
DTEND;TZID=America/Detroit:20230608T130000
DTSTAMP:20260425T003055
CREATED:20240508T070548Z
LAST-MODIFIED:20240521T072541Z
UID:25727-1686222000-1686229200@exoticautomation.com
SUMMARY:Traverse City ParkerStore Open House
DESCRIPTION:You’re invited to our Traverse City Open House!\nJoin us at our Traverse City ParkerStore on Thursday\, June 8th from 11:00am – 1:00pm for product demos\, giveaways and BBQ catered from Grand View Catering! \nRegister Below
URL:https://exoticautomation.com/event/traverse-city-parkerstore-open-house/
CATEGORIES:Luncheons
END:VEVENT
BEGIN:VEVENT
DTSTART;VALUE=DATE:20230508
DTEND;VALUE=DATE:20230512
DTSTAMP:20260425T003055
CREATED:20240508T070548Z
LAST-MODIFIED:20240521T072613Z
UID:25725-1683504000-1683849599@exoticautomation.com
SUMMARY:AISTech 2023 Iron & Steel Show
DESCRIPTION:Exotic Automation & Supply will be exhibiting at booth #1203 at this year’s AISTech Iron & Steel Conference held May 8th – May 11th in Detroit\, MI. On display will be our wide selection of Hydraulic Safety Valves. Not able to attend the show? Contact us for more information today.
URL:https://exoticautomation.com/event/aistech-2023-iron-steel-show/
CATEGORIES:Trade Show
END:VEVENT
BEGIN:VEVENT
DTSTART;TZID=America/Detroit:20230322T080000
DTEND;TZID=America/Detroit:20230323T160000
DTSTAMP:20260425T003055
CREATED:20240508T070548Z
LAST-MODIFIED:20240521T072619Z
UID:25724-1679472000-1679587200@exoticautomation.com
SUMMARY:2023 Motion & Control Summit
DESCRIPTION:Mark your calendar! The 3rd Annual Motion & Control Summit will be held March 22-23\, 2023. The summit is free of charge and will be held virtually\, so you can attend from anywhere! A wide variety of topics will be presented covering everything from AI Cobots to Modular Aluminum Building Systems. Stay tuned for more details!
URL:https://exoticautomation.com/event/2023-motion-control-summit/
CATEGORIES:Training
END:VEVENT
BEGIN:VEVENT
DTSTART;TZID=America/Detroit:20221208T140000
DTEND;TZID=America/Detroit:20221208T150000
DTSTAMP:20260425T003055
CREATED:20240508T070548Z
LAST-MODIFIED:20240521T072623Z
UID:25723-1670508000-1670511600@exoticautomation.com
SUMMARY:Thread ID & Safety Works
DESCRIPTION:Identifying thread types in industrial applications can be very confusing. This class will show you how to identify SAE\, NPT\, Metric & BSP thread types and will discuss hydraulic systems best safety practices. \n\nHow to identify SAE\, NPT\, Metric & BSP threads and the use of thread gauges\, calipers and thread profiles\nProper hose assembly and routing guidelines\nReview proper practices & maintaining safe conditions with regards to fluid systems\nS.T.A.M.P.E.D Selection Process\n\nRegister Below
URL:https://exoticautomation.com/event/thread-id-safety-works-7/
CATEGORIES:Training
END:VEVENT
BEGIN:VEVENT
DTSTART;TZID=America/Detroit:20221006T140000
DTEND;TZID=America/Detroit:20221006T150000
DTSTAMP:20260425T003055
CREATED:20240508T070548Z
LAST-MODIFIED:20240521T072626Z
UID:25718-1665064800-1665068400@exoticautomation.com
SUMMARY:Basics of Hydraulic Filtration
DESCRIPTION:Instructor: Jeff Bishop \nFluids should always be filtered before being put to use. Proper filtration during use is critical to avoid costly contamination problems and will maximize your machine’s up-time.  This informative class will filter out any confusion about how to keep your hydraulic systems clean and functioning properly. \n\nContamination basics (types\, sources\, etc.)\nFluid cleanliness standards / Filter media ratings\nFilter types & their applications\nFluid Analysis – a critical tool for any preventive maintenance program\n\nRegister Below
URL:https://exoticautomation.com/event/basics-of-hydraulic-filtration-4/
CATEGORIES:Training
END:VEVENT
BEGIN:VEVENT
DTSTART;TZID=America/Detroit:20221006T140000
DTEND;TZID=America/Detroit:20221006T150000
DTSTAMP:20260425T003055
CREATED:20240508T070548Z
LAST-MODIFIED:20240521T072628Z
UID:25721-1665064800-1665068400@exoticautomation.com
SUMMARY:Industrial Lubrication Practices
DESCRIPTION:Instructor: Mike Page \nMoving parts on your machinery & equipment require proper lubrication to maximize uptime and ensure long life. We’ll discuss several lubrication concepts and the available equipment needed to provide just the right amount of lubrication. \n\nHow much lubrication is the right amount?\nSeries progressive divider valve concepts\nInjector-based metering\nPump systems for injector-based & series progressive applications\n\nRegister Below \n\n                \n                        First Name*Last Name*Company Name*Email*\n                            \n                        Phone Number*Message*
URL:https://exoticautomation.com/event/industrial-lubrication-practices-8/
CATEGORIES:Training
END:VEVENT
BEGIN:VEVENT
DTSTART;TZID=America/Detroit:20220922T080000
DTEND;TZID=America/Detroit:20220923T140000
DTSTAMP:20260425T003055
CREATED:20240508T070548Z
LAST-MODIFIED:20240521T072632Z
UID:25713-1663833600-1663941600@exoticautomation.com
SUMMARY:60th Anniversary Celebration
DESCRIPTION:We’re celebrating 60 years! Join us September 22nd & 23rd for our 60th Anniversary Celebration at our New Hudson Headquarters. We can’t wait to celebrate with you! \nFeaturing… \n\nLunch from LazyBones Smokehouse BBQ & Rollin Stones Pizza Food Trucks\nEnter to win our Grand Prize Giveaway – a Trip for 2 to the Beautiful Crystal Mountain Lodge in Northern Michigan\nMeet with Product Representatives at our 20+ Booth Expo Hall Featuring Parker Hannifin\, SKF\, Enerpac\, Dixon\, Haskel\, Deublin\, NoShok\, ACE\, Destaco & more!\nFree Training & Development Classes\nMilitary Vehicle & Truck Show\n\nPre-RSVP today for your chance to win one of 10 door prizes!
URL:https://exoticautomation.com/event/60th-anniversary-celebration/
CATEGORIES:Luncheons
END:VEVENT
BEGIN:VEVENT
DTSTART;TZID=America/Detroit:20220908T140000
DTEND;TZID=America/Detroit:20220908T150000
DTSTAMP:20260425T003055
CREATED:20240508T070548Z
LAST-MODIFIED:20240521T072635Z
UID:25722-1662645600-1662649200@exoticautomation.com
SUMMARY:Maintaining Hydraulic System Fluid for Extended Component Life
DESCRIPTION:In this course\, we will explore how fluid can become contaminated in your hydraulic system. Topics include the different types of contaminants and how to reduce their ingression into the fluid\, how different contaminants can significantly reduce your hydraulic component life and strategies to manage the contaminants. \nRegister Below
URL:https://exoticautomation.com/event/maintaining-hydraulic-system-fluid-for-extended-component-life/
CATEGORIES:Training
END:VEVENT
BEGIN:VEVENT
DTSTART;TZID=America/Detroit:20220908T140000
DTEND;TZID=America/Detroit:20220908T150000
DTSTAMP:20260425T003055
CREATED:20240508T070548Z
LAST-MODIFIED:20240521T072638Z
UID:25719-1662645600-1662649200@exoticautomation.com
SUMMARY:Introduction to Electromechanical Motion Control
DESCRIPTION:Instructor: Dave Tunney \nWhat is ElectroMechanical Control? Attend this class to learn about the components involved in constructing ElectroMechanical systems. This class will also touch on how EM systems can help your machinery and equipment reduce energy consumption. \n\nEM Component Overview\nConstructing an EM System\nComparing Motion Technologies\nWhy Utilize EM? The Green Advantage\n\nRegister Below
URL:https://exoticautomation.com/event/introduction-to-electromechanical-motion-control-6/
CATEGORIES:Training
END:VEVENT
BEGIN:VEVENT
DTSTART;TZID=America/Detroit:20220811T140000
DTEND;TZID=America/Detroit:20220811T150000
DTSTAMP:20260425T003055
CREATED:20240508T070548Z
LAST-MODIFIED:20240521T072750Z
UID:25720-1660226400-1660230000@exoticautomation.com
SUMMARY:Basics of Air Filtration: Improving the Quality of the Air that we Breathe
DESCRIPTION:Instructor: Gabby Macerelli \nBasics of Air Filtration: Improving the Quality of the Air that we Breathe  \nIs the quality of the air in your work environment up to par? Every building\, no matter the application\, produces dust and most produce some type of mist. The proper capture and filtration of air borne particulate allows for not only a more efficient process\, but also provides a safe and clean working environment. \nIn this course we will highlight the many options to keep your air safe and clean: \n\nParker HVAC Disruptors – Loadtech and QuadSEAL\nDust Cartridges and Pleated Elements – Bag House Replacements\nDustHog and SmogHog – Plug&Play\n\nRegister Below
URL:https://exoticautomation.com/event/basics-of-air-filtration-improving-the-quality-of-the-air-that-we-breathe/
CATEGORIES:Training
END:VEVENT
BEGIN:VEVENT
DTSTART;TZID=America/Detroit:20220728T110000
DTEND;TZID=America/Detroit:20220728T140000
DTSTAMP:20260425T003055
CREATED:20240508T070548Z
LAST-MODIFIED:20240521T072755Z
UID:25717-1659006000-1659016800@exoticautomation.com
SUMMARY:Port Huron Grand Opening!
DESCRIPTION:Our Port Huron Store is officially open! Shop our newest store location at 1182 Gratiot Blvd\, Marysville\, MI 48040 for quick custom made hose assemblies on the spot\, hydraulic & pneumatic components and more! \nMARK YOUR CALENDARS\nOur grand opening celebration will be held on Thursday\, July 28th. We hope you can join us for catered food from Alexander’s\, giveaways\, product demonstrations\, training seminars & more! \nSTAY FOR TRAINING\n11:00am—12:00pm: Industrial Lubrication Practices\nMoving parts on your machinery & equipment require proper lubrication to maximize uptime and ensure long life. We’ll discuss several lubrication concepts and the available equipment needed to provide just the right amount of lubrication.\n \n1:00pm—2:00pm: Introduction to Electromechanical Motion Controls\nWhat is ElectroMechanical Control? Attend this class to learn about the components involved in constructing ElectroMechanical systems. This class will also touch on how EM systems can help your machinery and equipment reduce energy consumption. \nGRAND PRIZE GIVEAWAY!\nEnter for your chance to win a YETI Roadie 24 Hard Cooler!\n \nREGISTER BELOW:
URL:https://exoticautomation.com/event/port-huron-grand-opening/
CATEGORIES:Luncheons
END:VEVENT
BEGIN:VEVENT
DTSTART;VALUE=DATE:20220516
DTEND;VALUE=DATE:20220519
DTSTAMP:20260425T003055
CREATED:20240508T070548Z
LAST-MODIFIED:20240521T072800Z
UID:25714-1652659200-1652918399@exoticautomation.com
SUMMARY:AISTech 2022 Iron & Steel Show
DESCRIPTION:Exotic Automation & Supply will be exhibiting at booth #208 at this year’s AISTech Iron & Steel Conference held May 16th – May 19th in Pittsburgh\, PA. On display will be our wide selection of Hydraulic Safety Valves. Not able to attend the show? Contact us for more information today.
URL:https://exoticautomation.com/event/aistech-2022-iron-steel-show/
CATEGORIES:Training
END:VEVENT
BEGIN:VEVENT
DTSTART;VALUE=DATE:20220420
DTEND;VALUE=DATE:20220422
DTSTAMP:20260425T003055
CREATED:20240508T070548Z
LAST-MODIFIED:20240521T072805Z
UID:25716-1650412800-1650585599@exoticautomation.com
SUMMARY:2022 Cannabusiness Industrial Marketplace Michigan Summit & Expo
DESCRIPTION:Exotic Automation & Supply will be exhibiting at booth #502 at this year’s Cannabusiness Industrial Marketplace Summit & Expo held April 20th – 21st at Soaring Eagle Casino in Mt. Pleasant\, MI. On display will be our many solutions to support this growing industry including air & inert gas handling / plumbing systems\, stand-alone nitrogen generators\, filtration products and other fluid connector solutions. Not able to attend the show? Contact us for more information today!
URL:https://exoticautomation.com/event/2022-cannabusiness-industrial-marketplace-michigan-summit-expo/
END:VEVENT
BEGIN:VEVENT
DTSTART;VALUE=DATE:20220323
DTEND;VALUE=DATE:20220325
DTSTAMP:20260425T003055
CREATED:20240508T070548Z
LAST-MODIFIED:20240521T072810Z
UID:25715-1647993600-1648166399@exoticautomation.com
SUMMARY:MCSummit 2022
DESCRIPTION:The 2nd Annual Motion & Control Summit will be held March 23-24\, 2022. The summit is free of charge and will be held virtually\, so you can attend from anywhere! A wide variety of topics will be presented covering everything from hydraulic safety to clean air practices. Click here to view the full agenda and for registration details. 
URL:https://exoticautomation.com/event/mcsummit-2022/
CATEGORIES:Training
END:VEVENT
BEGIN:VEVENT
DTSTART;VALUE=DATE:20210726
DTEND;VALUE=DATE:20210731
DTSTAMP:20260425T003055
CREATED:20240508T070548Z
LAST-MODIFIED:20240521T072815Z
UID:25710-1627257600-1627689599@exoticautomation.com
SUMMARY:Customer Appreciation Week!
DESCRIPTION:As a thank you to our loyal customers\, we are hosting a customer appreciation week at all 12 of our ParkerStores. Stop by to enjoy complimentary sweet treats\, receive double punches on your rewards card & for a chance to win one of our grand prizes! Prizes include a YETI Hopper Cooler\, Amazon Gift Cards & more!
URL:https://exoticautomation.com/event/customer-appreciation-week/
END:VEVENT
BEGIN:VEVENT
DTSTART;TZID=America/Detroit:20210715T150000
DTEND;TZID=America/Detroit:20210715T160000
DTSTAMP:20260425T003055
CREATED:20240508T070548Z
LAST-MODIFIED:20240521T072820Z
UID:25709-1626361200-1626364800@exoticautomation.com
SUMMARY:Sizing Electromechanical Cylinders for Retrofit Applications
DESCRIPTION:Instructor: Dave Tunney\, Electromechanical Product Manager \nIn this webinar\, we will discuss: \n\nThe benefits and drawbacks of electromechanical\, hydraulic\, pneumatic\, and hybrid cylinders\nWhat is the best for your application\nHow to properly size electromechanical cylinders
URL:https://exoticautomation.com/event/sizing-electromechanical-cylinders-for-retrofit-applications-2/
CATEGORIES:Training
END:VEVENT
BEGIN:VEVENT
DTSTART;TZID=America/Detroit:20210715T140000
DTEND;TZID=America/Detroit:20210715T150000
DTSTAMP:20260425T003055
CREATED:20240508T070548Z
LAST-MODIFIED:20240521T072825Z
UID:25708-1626357600-1626361200@exoticautomation.com
SUMMARY:Industrial Lubrication Practices
DESCRIPTION:Instructor: Mike Page\, Industrial Lubrication Product Manager \nMoving parts on your machinery & equipment require proper lubrication to maximize uptime and ensure long life. We’ll discuss several lubrication concepts and the available equipment needed to provide just the right amount of lubrication. \n• How much lubrication is the right amount?\n• Series progressive divider valve concepts\n• Injector-based metering\n• Pump systems for injector-based & series progressive applications \n\n                \n                        First Name*Last Name*Company Name*Email*\n                            \n                        Phone Number*Message*
URL:https://exoticautomation.com/event/industrial-lubrication-practices-7/
CATEGORIES:Training
END:VEVENT
BEGIN:VEVENT
DTSTART;TZID=America/Detroit:20210715T130000
DTEND;TZID=America/Detroit:20210715T140000
DTSTAMP:20260425T003055
CREATED:20240508T070545Z
LAST-MODIFIED:20240521T072830Z
UID:25707-1626354000-1626357600@exoticautomation.com
SUMMARY:Basics of Hydraulic Filtration
DESCRIPTION:Instructor: Jeff Bishop\, Filtration Product Manager \nFluids should always be filtered before being put to use. Proper filtration during use is critical to avoid costly contamination problems and will maximize your machine’s up-time.  This informative class will filter out any confusion about how to keep your hydraulic systems clean and functioning properly. \n\nContamination basics (types\, sources\, etc.)\nFluid cleanliness standards / Filter media ratings\nFilter types & their applications\nFluid Analysis – a critical tool for any preventive maintenance program
URL:https://exoticautomation.com/event/basics-of-hydraulic-filtration-3/
CATEGORIES:Training
END:VEVENT
BEGIN:VEVENT
DTSTART;VALUE=DATE:20210713
DTEND;VALUE=DATE:20210715
DTSTAMP:20260425T003055
CREATED:20240508T070548Z
LAST-MODIFIED:20240521T072835Z
UID:25712-1626134400-1626307199@exoticautomation.com
SUMMARY:2021 Cannabusiness Industrial Marketplace Michigan Summit & Expo
DESCRIPTION:Exotic Automation & Supply will be exhibiting at booth #718 at this year’s Cannabusiness Industrial Marketplace Michigan Summit & Expo held July 13th – 14th at Soaring Eagle Casino in Mt. Pleasant\, MI. On display will be our many solutions to support this growing industry including air & inert gas handling/plumbing systems\, stand-alone nitrogen generators\, filtration products and other fluid connector solutions. Not able to attend the show? Contact us for more information today.
URL:https://exoticautomation.com/event/2021-cannabusiness-industrial-marketplace-michigan-summit-expo/
END:VEVENT
BEGIN:VEVENT
DTSTART;VALUE=DATE:20210629
DTEND;VALUE=DATE:20210702
DTSTAMP:20260425T003055
CREATED:20240508T070548Z
LAST-MODIFIED:20240521T072844Z
UID:25711-1624924800-1625183999@exoticautomation.com
SUMMARY:AISTech 2021 Iron & Steel Show
DESCRIPTION:Exotic Automation & Supply will be exhibiting at booth #1754 at this year’s AISTech Iron & Steel Conference held June 29-July 1st in Nashville\, TN. On display will be our wide selection of safety products including Sidener Hydraulic Safety Valves & Deublin Rotary Unions. Not able to attend the show? Contact us for more information today.
URL:https://exoticautomation.com/event/aistech-2021-iron-steel-show/
END:VEVENT
BEGIN:VEVENT
DTSTART;TZID=America/Detroit:20210624T100000
DTEND;TZID=America/Detroit:20210624T110000
DTSTAMP:20260425T003055
CREATED:20240508T070545Z
LAST-MODIFIED:20240521T072849Z
UID:25706-1624528800-1624532400@exoticautomation.com
SUMMARY:Sizing Electromechanical Cylinders for Retrofit Applications Webinar
DESCRIPTION:Sizing Electromechanical Cylinders for Retrofit Applications\nIn this webinar\, we will discuss \n\nThe benefits and drawbacks of electromechanical\, hydraulic\, pneumatic\, and hybrid cylinders\nWhat is the best for your application\nHow to properly size electromechanical cylinders
URL:https://exoticautomation.com/event/sizing-electromechanical-cylinders-for-retrofit-applications-webinar/
CATEGORIES:Training
END:VEVENT
BEGIN:VEVENT
DTSTART;TZID=America/Detroit:20210623T100000
DTEND;TZID=America/Detroit:20210623T110000
DTSTAMP:20260425T003055
CREATED:20240508T070545Z
LAST-MODIFIED:20240521T072854Z
UID:25705-1624442400-1624446000@exoticautomation.com
SUMMARY:Industrial Lubrication Practices Webinar
DESCRIPTION:Industrial Lubrication Practices\nMoving parts on your machinery & equipment require proper lubrication to maximize uptime and ensure long life. We’ll discuss several lubrication concepts and the available equipment needed to provide just the right amount of lubrication. \n\nHow much lubrication is the right amount?\nSeries progressive divider valve concepts\nInjector-based metering\nPump systems for injector-based & series progressive applications
URL:https://exoticautomation.com/event/industrial-lubrication-practices-webinar-3/
CATEGORIES:Training
END:VEVENT
BEGIN:VEVENT
DTSTART;TZID=America/Detroit:20210622T100000
DTEND;TZID=America/Detroit:20210622T110000
DTSTAMP:20260425T003055
CREATED:20240508T070545Z
LAST-MODIFIED:20240521T072859Z
UID:25704-1624356000-1624359600@exoticautomation.com
SUMMARY:Combine Fluid Power Safety & Connectivity for Increased Productivity Webinar
DESCRIPTION:Combine Fluid Power Safety & Connectivity for Increased Productivity Webinar\nUntil recently\, safety and networking were viewed as expensive mandates that added more cost than value.  Today\, enlightened Controls Engineers leverage their knowledge of safety and networking technologies to design fluid power circuits that mitigate downtime and deliver a faster ROI. \n\nCommon fluid power hazards\nSRP/CS and safety-rated products\nControl-reliable\, pressure zoning\, LOTO “Alternative Methods”\nPneumatic and hydraulic devices (SRP/CS & Safety Rated) available for safety circuits\nLeveraging Parker’s ISO H Series for prognostics and diagnostics
URL:https://exoticautomation.com/event/combine-fluid-power-safety-connectivity-for-increased-productivity-webinar/
CATEGORIES:Training
END:VEVENT
END:VCALENDAR